BEGIN:VCALENDAR
VERSION:2.0
PRODID:-//AVV Barrio Centro Alcalá de henares - ECPv6.3.5//NONSGML v1.0//EN
CALSCALE:GREGORIAN
METHOD:PUBLISH
X-ORIGINAL-URL:https://avvcentrodealcala.org
X-WR-CALDESC:Eventos para AVV Barrio Centro Alcalá de henares
REFRESH-INTERVAL;VALUE=DURATION:PT1H
X-Robots-Tag:noindex
X-PUBLISHED-TTL:PT1H
BEGIN:VTIMEZONE
TZID:Europe/Madrid
BEGIN:DAYLIGHT
TZOFFSETFROM:+0100
TZOFFSETTO:+0200
TZNAME:CEST
DTSTART:20230326T010000
END:DAYLIGHT
BEGIN:STANDARD
TZOFFSETFROM:+0200
TZOFFSETTO:+0100
TZNAME:CET
DTSTART:20231029T010000
END:STANDARD
BEGIN:DAYLIGHT
TZOFFSETFROM:+0100
TZOFFSETTO:+0200
TZNAME:CEST
DTSTART:20240331T010000
END:DAYLIGHT
BEGIN:STANDARD
TZOFFSETFROM:+0200
TZOFFSETTO:+0100
TZNAME:CET
DTSTART:20241027T010000
END:STANDARD
END:VTIMEZONE
BEGIN:VEVENT
DTSTART;VALUE=DATE:20231206
DTEND;VALUE=DATE:20240108
DTSTAMP:20260423T234607
CREATED:20240404T144624Z
LAST-MODIFIED:20240404T151533Z
UID:10000028-1701820800-1704671999@avvcentrodealcala.org
SUMMARY:Mercado Navideño
DESCRIPTION:El mercado navideño\, que estará abierto hasta el 7 de enero 2024\, tendrá en la Plaza de Cervantes a la vez pista de hielo y noria\, y propone un mercado gastronómico de productos exclusivos. Este año la plaza de los Santos Niños también tendrá actividad del Mercado\, enfocado al público más infantil. \nDentro del contrato de ‘Mercados Temáticos’ por el que el Ayuntamiento tiene a la firma Musical Sport como empresa adjudicataria se ha planteado un Mercado Navideño en dos focos\, Plaza de Cervantes y Plaza de los Santos Niños\, con actividades variadas para todo tipo de público. El grueso de la apuesta para este Mercado Navideño vendrá en la Plaza de Cervantes\, donde por primera vez coincidirán conjuntamente atracciones como la noria\, la pista de hielo o el carrusel de época. Además\, los organizadores apuestan por un esquema basado en propuestas\, al estilo de ciudades centroeuropeas. \nEste ‘gastromercado’ de productos exclusivos se unirá a otras casetas navideñas de contenido artístico y ornamental y estará iluminado con un entramado de luces para fomentar su recorrido y su estética. Entre otros\, estos productos exclusivos se propondrán algunos establecimientos como croquetería\, empanadas argentinas\, tequeños\, croissantería\, crepería\, cachopería\, vinos calientes y otras modalidades ampliamente arraigadas en el desarrollo de los mercados de las ciudades culturales europeas. La Feria del Libro como es tradicional seguirá ubicada en la Plaza de Cervantes como emblema cultural imprescindible para entender las Navidades en Alcalá. \nFuente: Ayuntamiento Alcalá de Henares
URL:https://avvcentrodealcala.org/evento/mercado-navideno/
LOCATION:Plaza de Cervantes\, Plaza de Cervantes\, Alcalá de Henares\, España
CATEGORIES:Mercado
END:VEVENT
END:VCALENDAR