BEGIN:VCALENDAR
VERSION:2.0
PRODID:-//AVV Barrio Centro Alcalá de henares - ECPv6.3.5//NONSGML v1.0//EN
CALSCALE:GREGORIAN
METHOD:PUBLISH
X-WR-CALNAME:AVV Barrio Centro Alcalá de henares
X-ORIGINAL-URL:https://avvcentrodealcala.org
X-WR-CALDESC:Eventos para AVV Barrio Centro Alcalá de henares
REFRESH-INTERVAL;VALUE=DURATION:PT1H
X-Robots-Tag:noindex
X-PUBLISHED-TTL:PT1H
BEGIN:VTIMEZONE
TZID:Europe/Madrid
BEGIN:DAYLIGHT
TZOFFSETFROM:+0100
TZOFFSETTO:+0200
TZNAME:CEST
DTSTART:20240331T010000
END:DAYLIGHT
BEGIN:STANDARD
TZOFFSETFROM:+0200
TZOFFSETTO:+0100
TZNAME:CET
DTSTART:20241027T010000
END:STANDARD
END:VTIMEZONE
BEGIN:VEVENT
DTSTART;TZID=Europe/Madrid:20240410T180000
DTEND;TZID=Europe/Madrid:20240410T200000
DTSTAMP:20260421T205234
CREATED:20240404T100704Z
LAST-MODIFIED:20240404T141643Z
UID:1625-1712772000-1712779200@avvcentrodealcala.org
SUMMARY:Mesa informativa de Concienciación sobre el Ruido
DESCRIPTION:Estaremos informando sobre los ruidos con los que convivimos a lo largo de todo el año las personas que vivimos en el barrio centro
URL:https://avvcentrodealcala.org/evento/mesa-informativa-de-concienciacion-sobre-el-ruido/
LOCATION:Plaza de Cervantes\, Plaza de Cervantes\, Alcalá de Henares\, España
CATEGORIES:Mesa informativa
ATTACH;FMTTYPE=image/png:https://avvcentrodealcala.org/wp-content/uploads/2024/04/Dia-Sin-Ruidos.png
END:VEVENT
END:VCALENDAR