BEGIN:VCALENDAR
VERSION:2.0
PRODID:-//AVV Barrio Centro Alcalá de henares - ECPv6.3.5//NONSGML v1.0//EN
CALSCALE:GREGORIAN
METHOD:PUBLISH
X-WR-CALNAME:AVV Barrio Centro Alcalá de henares
X-ORIGINAL-URL:https://avvcentrodealcala.org
X-WR-CALDESC:Eventos para AVV Barrio Centro Alcalá de henares
REFRESH-INTERVAL;VALUE=DURATION:PT1H
X-Robots-Tag:noindex
X-PUBLISHED-TTL:PT1H
BEGIN:VTIMEZONE
TZID:Europe/Madrid
BEGIN:DAYLIGHT
TZOFFSETFROM:+0100
TZOFFSETTO:+0200
TZNAME:CEST
DTSTART:20230326T010000
END:DAYLIGHT
BEGIN:STANDARD
TZOFFSETFROM:+0200
TZOFFSETTO:+0100
TZNAME:CET
DTSTART:20231029T010000
END:STANDARD
BEGIN:DAYLIGHT
TZOFFSETFROM:+0100
TZOFFSETTO:+0200
TZNAME:CEST
DTSTART:20240331T010000
END:DAYLIGHT
BEGIN:STANDARD
TZOFFSETFROM:+0200
TZOFFSETTO:+0100
TZNAME:CET
DTSTART:20241027T010000
END:STANDARD
END:VTIMEZONE
BEGIN:VEVENT
DTSTART;VALUE=DATE:20241008
DTEND;VALUE=DATE:20241014
DTSTAMP:20260421T222906
CREATED:20240404T154521Z
LAST-MODIFIED:20240404T154847Z
UID:10000031-1728345600-1728863999@avvcentrodealcala.org
SUMMARY:Mercado Cervantino 2024
DESCRIPTION:
URL:https://avvcentrodealcala.org/evento/mercado-cervantino-2024/
CATEGORIES:Mercado
END:VEVENT
BEGIN:VEVENT
DTSTART;VALUE=DATE:20240824
DTEND;VALUE=DATE:20240902
DTSTAMP:20260421T222906
CREATED:20240404T165811Z
LAST-MODIFIED:20240404T170712Z
UID:10000037-1724457600-1725235199@avvcentrodealcala.org
SUMMARY:Ferias y Fiestas 2024
DESCRIPTION:
URL:https://avvcentrodealcala.org/evento/ferias-2024/
CATEGORIES:Fiestas
END:VEVENT
BEGIN:VEVENT
DTSTART;VALUE=DATE:20240803
DTEND;VALUE=DATE:20240807
DTSTAMP:20260421T222906
CREATED:20240404T170827Z
LAST-MODIFIED:20240404T171052Z
UID:10000038-1722643200-1722988799@avvcentrodealcala.org
SUMMARY:Fiestas Patronales de los Santos Niños 2024
DESCRIPTION:
URL:https://avvcentrodealcala.org/evento/fiestas-patronales-de-los-santos-ninos-2024/
CATEGORIES:Fiestas
END:VEVENT
BEGIN:VEVENT
DTSTART;VALUE=DATE:20240607
DTEND;VALUE=DATE:20240610
DTSTAMP:20260421T222906
CREATED:20240404T171305Z
LAST-MODIFIED:20240404T171305Z
UID:10000040-1717718400-1717977599@avvcentrodealcala.org
SUMMARY:Alcalá Suena 2024
DESCRIPTION:
URL:https://avvcentrodealcala.org/evento/alcala-suena-2024/
END:VEVENT
BEGIN:VEVENT
DTSTART;VALUE=DATE:20240501
DTEND;VALUE=DATE:20240506
DTSTAMP:20260421T222906
CREATED:20240404T155721Z
LAST-MODIFIED:20240408T143631Z
UID:10000033-1714521600-1714953599@avvcentrodealcala.org
SUMMARY:Complutum Renacida 2024
DESCRIPTION:
URL:https://avvcentrodealcala.org/evento/mercado-romano-2023-2/
CATEGORIES:Mercado
END:VEVENT
BEGIN:VEVENT
DTSTART;VALUE=DATE:20240323
DTEND;VALUE=DATE:20240401
DTSTAMP:20260421T222906
CREATED:20240404T162805Z
LAST-MODIFIED:20240404T163942Z
UID:10000035-1711152000-1711929599@avvcentrodealcala.org
SUMMARY:Semana Santa 2024
DESCRIPTION:Programa completo en la web del Ayuntamiento.
URL:https://avvcentrodealcala.org/evento/semana-santa-2024/
CATEGORIES:Acto religioso
END:VEVENT
BEGIN:VEVENT
DTSTART;VALUE=DATE:20231206
DTEND;VALUE=DATE:20240108
DTSTAMP:20260421T222906
CREATED:20240404T144624Z
LAST-MODIFIED:20240404T151533Z
UID:10000028-1701820800-1704671999@avvcentrodealcala.org
SUMMARY:Mercado Navideño
DESCRIPTION:El mercado navideño\, que estará abierto hasta el 7 de enero 2024\, tendrá en la Plaza de Cervantes a la vez pista de hielo y noria\, y propone un mercado gastronómico de productos exclusivos. Este año la plaza de los Santos Niños también tendrá actividad del Mercado\, enfocado al público más infantil. \nDentro del contrato de ‘Mercados Temáticos’ por el que el Ayuntamiento tiene a la firma Musical Sport como empresa adjudicataria se ha planteado un Mercado Navideño en dos focos\, Plaza de Cervantes y Plaza de los Santos Niños\, con actividades variadas para todo tipo de público. El grueso de la apuesta para este Mercado Navideño vendrá en la Plaza de Cervantes\, donde por primera vez coincidirán conjuntamente atracciones como la noria\, la pista de hielo o el carrusel de época. Además\, los organizadores apuestan por un esquema basado en propuestas\, al estilo de ciudades centroeuropeas. \nEste ‘gastromercado’ de productos exclusivos se unirá a otras casetas navideñas de contenido artístico y ornamental y estará iluminado con un entramado de luces para fomentar su recorrido y su estética. Entre otros\, estos productos exclusivos se propondrán algunos establecimientos como croquetería\, empanadas argentinas\, tequeños\, croissantería\, crepería\, cachopería\, vinos calientes y otras modalidades ampliamente arraigadas en el desarrollo de los mercados de las ciudades culturales europeas. La Feria del Libro como es tradicional seguirá ubicada en la Plaza de Cervantes como emblema cultural imprescindible para entender las Navidades en Alcalá. \nFuente: Ayuntamiento Alcalá de Henares
URL:https://avvcentrodealcala.org/evento/mercado-navideno/
LOCATION:Plaza de Cervantes\, Plaza de Cervantes\, Alcalá de Henares\, España
CATEGORIES:Mercado
END:VEVENT
BEGIN:VEVENT
DTSTART;VALUE=DATE:20231006
DTEND;VALUE=DATE:20231013
DTSTAMP:20260421T222906
CREATED:20240404T153321Z
LAST-MODIFIED:20240404T154821Z
UID:10000030-1696550400-1697155199@avvcentrodealcala.org
SUMMARY:Mercado Cervantino 2023
DESCRIPTION:Una semana de intensa programación por las calles del centro\, con las consiguientes molestias para sus vecinos y vecinas (se puede consultar aquí)
URL:https://avvcentrodealcala.org/evento/mercado-cervantino/
CATEGORIES:Mercado
END:VEVENT
BEGIN:VEVENT
DTSTART;VALUE=DATE:20230826
DTEND;VALUE=DATE:20230904
DTSTAMP:20260421T222906
CREATED:20240404T165616Z
LAST-MODIFIED:20240404T170645Z
UID:10000036-1693008000-1693785599@avvcentrodealcala.org
SUMMARY:Ferias y Fiestas 2023
DESCRIPTION:Se puede consultar el programa completo de Ferias en la web del Ayuntamiento.
URL:https://avvcentrodealcala.org/evento/ferias-2023/
CATEGORIES:Fiestas
END:VEVENT
BEGIN:VEVENT
DTSTART;VALUE=DATE:20230803
DTEND;VALUE=DATE:20230807
DTSTAMP:20260421T222906
CREATED:20240404T171014Z
LAST-MODIFIED:20240404T171101Z
UID:10000039-1691020800-1691366399@avvcentrodealcala.org
SUMMARY:Fiestas Patronales de los Santos Niños 2023
DESCRIPTION:
URL:https://avvcentrodealcala.org/evento/fiestas-patronales-de-los-santos-ninos-2023/
CATEGORIES:Fiestas
END:VEVENT
BEGIN:VEVENT
DTSTART;VALUE=DATE:20230602
DTEND;VALUE=DATE:20230605
DTSTAMP:20260421T222906
CREATED:20240404T171348Z
LAST-MODIFIED:20240404T171348Z
UID:10000041-1685664000-1685923199@avvcentrodealcala.org
SUMMARY:Alcalá Suena 2023
DESCRIPTION:
URL:https://avvcentrodealcala.org/evento/alcala-suena-2023/
END:VEVENT
BEGIN:VEVENT
DTSTART;VALUE=DATE:20230428
DTEND;VALUE=DATE:20230503
DTSTAMP:20260421T222906
CREATED:20240404T155618Z
LAST-MODIFIED:20240404T170429Z
UID:10000032-1682640000-1683071999@avvcentrodealcala.org
SUMMARY:Complutum Renacida 2023
DESCRIPTION:
URL:https://avvcentrodealcala.org/evento/mercado-romano-2023/
CATEGORIES:Mercado
END:VEVENT
BEGIN:VEVENT
DTSTART;VALUE=DATE:20230401
DTEND;VALUE=DATE:20230410
DTSTAMP:20260421T222906
CREATED:20240404T162555Z
LAST-MODIFIED:20240404T164156Z
UID:10000034-1680307200-1681084799@avvcentrodealcala.org
SUMMARY:Semana Santa 2023
DESCRIPTION:Programa completo en la web del Ayuntamiento.
URL:https://avvcentrodealcala.org/evento/semana-santa-2023/
CATEGORIES:Acto religioso
END:VEVENT
END:VCALENDAR